BEGIN:VCALENDAR
VERSION:2.0
PRODID:-//Senator Patty Kim - ECPv6.15.20//NONSGML v1.0//EN
CALSCALE:GREGORIAN
METHOD:PUBLISH
X-WR-CALNAME:Senator Patty Kim
X-ORIGINAL-URL:https://pasenatorkim.com
X-WR-CALDESC:Events for Senator Patty Kim
REFRESH-INTERVAL;VALUE=DURATION:PT1H
X-Robots-Tag:noindex
X-PUBLISHED-TTL:PT1H
BEGIN:VTIMEZONE
TZID:America/New_York
BEGIN:DAYLIGHT
TZOFFSETFROM:-0500
TZOFFSETTO:-0400
TZNAME:EDT
DTSTART:20240310T070000
END:DAYLIGHT
BEGIN:STANDARD
TZOFFSETFROM:-0400
TZOFFSETTO:-0500
TZNAME:EST
DTSTART:20241103T060000
END:STANDARD
BEGIN:DAYLIGHT
TZOFFSETFROM:-0500
TZOFFSETTO:-0400
TZNAME:EDT
DTSTART:20250309T070000
END:DAYLIGHT
BEGIN:STANDARD
TZOFFSETFROM:-0400
TZOFFSETTO:-0500
TZNAME:EST
DTSTART:20251102T060000
END:STANDARD
BEGIN:DAYLIGHT
TZOFFSETFROM:-0500
TZOFFSETTO:-0400
TZNAME:EDT
DTSTART:20260308T070000
END:DAYLIGHT
BEGIN:STANDARD
TZOFFSETFROM:-0400
TZOFFSETTO:-0500
TZNAME:EST
DTSTART:20261101T060000
END:STANDARD
END:VTIMEZONE
BEGIN:VEVENT
DTSTART;TZID=America/New_York:20251108T090000
DTEND;TZID=America/New_York:20251108T113000
DTSTAMP:20260419T165411
CREATED:20251106T181204Z
LAST-MODIFIED:20251106T181204Z
UID:10000017-1762592400-1762601400@pasenatorkim.com
SUMMARY:2025 AKA Energy Forum
DESCRIPTION:With rising energy costs\, make plans to attend and learn the $ecrets of $aving Money and Energy at the 2025 AKA Energy Forum on Saturday\, November 8\, 2025 9:00 am – 11:00 am. The program is an opportunity to understand why your electricity bills are increasing and what you can expect to see in the future. The Energy Forum will include information on ways to conserve energy and water\, customer assistance programs including payment arrangements and budget billing as well as DIY tips. \nLearn more here →
URL:https://pasenatorkim.com/event/2025-aka-energy-forum/
LOCATION:GMBC Family Life Center\, 2430 N. 3rd Street\, Harrisburg\, 17110\, United States
CATEGORIES:2025 Holiday
ATTACH;FMTTYPE=image/jpeg:https://pasenatorkim.com/wp-content/uploads/2025/11/Energy-Forum-Nov-8-2025.jpg
END:VEVENT
BEGIN:VEVENT
DTSTART;TZID=America/New_York:20251108T100000
DTEND;TZID=America/New_York:20251108T140000
DTSTAMP:20260419T165411
CREATED:20251106T180323Z
LAST-MODIFIED:20251106T180323Z
UID:10000013-1762596000-1762610400@pasenatorkim.com
SUMMARY:Community Care Day
DESCRIPTION:Greater Zion Baptist Church\, in partnership with World Vision\, is hosting a distribution event to serve families in our community with FREE essential items and the hope of the gospel. \nFamilies can receive personal care items\, diapers\, clothing\, household goods\, bed linens\, toys\, seasonal items\, and more—all at no cost. \nWHEN: Saturday\, November 8th \nTIME: 10:00 AM – 2:00 PM \nWHO: All members of the community are welcome. No registration required! \nLearn more here →
URL:https://pasenatorkim.com/event/community-care-day/
LOCATION:Greater Zion Baptist Church\, 212 N Progress Avenue\, Harrisburg\, 17109\, United States
CATEGORIES:2025 Holiday
ATTACH;FMTTYPE=image/jpeg:https://pasenatorkim.com/wp-content/uploads/2025/11/Community-Care-Day.jpg
END:VEVENT
BEGIN:VEVENT
DTSTART;TZID=America/New_York:20251108T113000
DTEND;TZID=America/New_York:20251108T123000
DTSTAMP:20260419T165411
CREATED:20251106T180825Z
LAST-MODIFIED:20251106T180938Z
UID:10000014-1762601400-1762605000@pasenatorkim.com
SUMMARY:MBROC Grocery Giveaway
DESCRIPTION:Come ready to pick up some free groceries. Bring your own bags\, boxes\, wagon etc. Time starts 11:30 am until we run out!! FYI…line starts early \nLearn more here →
URL:https://pasenatorkim.com/event/mbroc-grocery-giveaway/2025-11-08/
LOCATION:Penbrook Church of God Parking Lot\, 2733 Canby Street\, Harrisburg\, 17103\, United States
CATEGORIES:2025 Holiday
ATTACH;FMTTYPE=image/jpeg:https://pasenatorkim.com/wp-content/uploads/2025/11/MBROC-Free-Grocery-Giveaway.jpg
END:VEVENT
END:VCALENDAR