BEGIN:VCALENDAR
VERSION:2.0
PRODID:-//Senator Patty Kim - ECPv6.15.20//NONSGML v1.0//EN
CALSCALE:GREGORIAN
METHOD:PUBLISH
X-ORIGINAL-URL:https://pasenatorkim.com
X-WR-CALDESC:Events for Senator Patty Kim
REFRESH-INTERVAL;VALUE=DURATION:PT1H
X-Robots-Tag:noindex
X-PUBLISHED-TTL:PT1H
BEGIN:VTIMEZONE
TZID:America/New_York
BEGIN:DAYLIGHT
TZOFFSETFROM:-0500
TZOFFSETTO:-0400
TZNAME:EDT
DTSTART:20240310T070000
END:DAYLIGHT
BEGIN:STANDARD
TZOFFSETFROM:-0400
TZOFFSETTO:-0500
TZNAME:EST
DTSTART:20241103T060000
END:STANDARD
BEGIN:DAYLIGHT
TZOFFSETFROM:-0500
TZOFFSETTO:-0400
TZNAME:EDT
DTSTART:20250309T070000
END:DAYLIGHT
BEGIN:STANDARD
TZOFFSETFROM:-0400
TZOFFSETTO:-0500
TZNAME:EST
DTSTART:20251102T060000
END:STANDARD
BEGIN:DAYLIGHT
TZOFFSETFROM:-0500
TZOFFSETTO:-0400
TZNAME:EDT
DTSTART:20260308T070000
END:DAYLIGHT
BEGIN:STANDARD
TZOFFSETFROM:-0400
TZOFFSETTO:-0500
TZNAME:EST
DTSTART:20261101T060000
END:STANDARD
END:VTIMEZONE
BEGIN:VEVENT
DTSTART;TZID=America/New_York:20251110T100000
DTEND;TZID=America/New_York:20251110T120000
DTSTAMP:20260419T165610
CREATED:20251021T212523Z
LAST-MODIFIED:20251106T201747Z
UID:10000009-1762768800-1762776000@pasenatorkim.com
SUMMARY:Policy Hearing: Supporting Home Care Workers
DESCRIPTION:On Monday\, November 10\, 2025\, at 10:00 a.m.\, Senate Democratic Policy Committee Chair Nick Miller (D-14) will host a hearing alongside Senator Tartaglione (D-2)\, Senator Hughes (D-7)\, Senator Saval (D-1)\, and Senator Kim (D-15). This hearing will examine direct care employee wages and the trends observed in the Commonwealth over the last decade. \nThis hearing will be held at SEIU Office located at 455 N. 5th Street\, Philadelphia\, PA 19123. \n Watch hearing live at pasenatormiller.com/policy.
URL:https://pasenatorkim.com/event/policy-hearing-supporting-home-care-workers/
LOCATION:SEIU Office\, 455 N. 5th Street\, Philadelphia\, PA\, 19123\, United States
ATTACH;FMTTYPE=image/jpeg:https://pasenatorkim.com/wp-content/uploads/2025/10/2025_Miller_PolicyHearings_Nov10_HomeCareWorkers.jpg
END:VEVENT
END:VCALENDAR