BEGIN:VCALENDAR
VERSION:2.0
PRODID:-//Senator Patty Kim - ECPv6.15.20//NONSGML v1.0//EN
CALSCALE:GREGORIAN
METHOD:PUBLISH
X-ORIGINAL-URL:https://pasenatorkim.com
X-WR-CALDESC:Events for Senator Patty Kim
REFRESH-INTERVAL;VALUE=DURATION:PT1H
X-Robots-Tag:noindex
X-PUBLISHED-TTL:PT1H
BEGIN:VTIMEZONE
TZID:America/New_York
BEGIN:DAYLIGHT
TZOFFSETFROM:-0500
TZOFFSETTO:-0400
TZNAME:EDT
DTSTART:20240310T070000
END:DAYLIGHT
BEGIN:STANDARD
TZOFFSETFROM:-0400
TZOFFSETTO:-0500
TZNAME:EST
DTSTART:20241103T060000
END:STANDARD
BEGIN:DAYLIGHT
TZOFFSETFROM:-0500
TZOFFSETTO:-0400
TZNAME:EDT
DTSTART:20250309T070000
END:DAYLIGHT
BEGIN:STANDARD
TZOFFSETFROM:-0400
TZOFFSETTO:-0500
TZNAME:EST
DTSTART:20251102T060000
END:STANDARD
BEGIN:DAYLIGHT
TZOFFSETFROM:-0500
TZOFFSETTO:-0400
TZNAME:EDT
DTSTART:20260308T070000
END:DAYLIGHT
BEGIN:STANDARD
TZOFFSETFROM:-0400
TZOFFSETTO:-0500
TZNAME:EST
DTSTART:20261101T060000
END:STANDARD
END:VTIMEZONE
BEGIN:VEVENT
DTSTART;TZID=America/New_York:20251221T120000
DTEND;TZID=America/New_York:20251221T140000
DTSTAMP:20260419T170044
CREATED:20251202T213414Z
LAST-MODIFIED:20251202T213519Z
UID:10000034-1766318400-1766325600@pasenatorkim.com
SUMMARY:B2G & MIK Christmas Giveaway
DESCRIPTION:
URL:https://pasenatorkim.com/event/b2g-mik-christmas-giveaway/
LOCATION:Men In the Kitchen\, 606 N 2nd Street\, Harrisburg\, PA\, 17101\, United States
CATEGORIES:2025 Holiday
ATTACH;FMTTYPE=image/jpeg:https://pasenatorkim.com/wp-content/uploads/2025/12/Men-in-the-Kitchen.jpg
END:VEVENT
BEGIN:VEVENT
DTSTART;TZID=America/New_York:20251221T150000
DTEND;TZID=America/New_York:20251221T170000
DTSTAMP:20260419T170044
CREATED:20251202T212757Z
LAST-MODIFIED:20251202T215721Z
UID:10000033-1766329200-1766336400@pasenatorkim.com
SUMMARY:Estamos Unidos de Pennsylvania's Fiesta del Niños Children's Christmas Party
DESCRIPTION:Estamos Unidos de PA is planning the Children’s Christmas Party celebration again\, where nearly 800 children and their families will come together to celebrate the kindness\, solidarity\, and uniqueness of our diverse communities. \nEstamos Unidos de Pennsylvania is proud to announce its 23rd annual “Fiesta Del Niño – Children’s Christmas Party.” Estamos Unidos will once again host this Christmas event for inner-city families. This year\, the event will take place on Sunday\, December 21st\, 2025\, at John Harris High School from 2:00 p.m. to 6:00 p.m.\nPlease join us in celebrating the 22nd Annual Fiesta del Niño Children’s Christmas Party! \nRegistration is required\, and it is now OPEN! The registration deadline is December 14th\, 2025. Registration is for children ages 12 & younger ONLY! * Children must be present to receive a gift * \nDoors open at 2 p.m.\nDoors close at 3 p.m. \nThe program goes from 2 – 5 p.m. (light lunch and entertainment are part of the program).\nIf you would like to register your children\, please click here: https://www.ticketleap.events/tickets/estamosunidospaorg/fiesta-2025 \nVisit https://estamosunidospa.org/event/estamos-unidos-2025-children-christmas-party/ for more information. \n \n 
URL:https://pasenatorkim.com/event/christmas-party-dec-21-2025/
LOCATION:John Harris High School\, 2451 Market Street\, Harrisburg\, PA\, 17103\, United States
CATEGORIES:2025 Holiday
ATTACH;FMTTYPE=image/jpeg:https://pasenatorkim.com/wp-content/uploads/2025/12/Estamos-Unidos-de-PA.jpg
END:VEVENT
BEGIN:VEVENT
DTSTART;TZID=America/New_York:20251221T180000
DTEND;TZID=America/New_York:20251221T190000
DTSTAMP:20260419T170044
CREATED:20251112T200810Z
LAST-MODIFIED:20251112T200810Z
UID:10000030-1766340000-1766343600@pasenatorkim.com
SUMMARY:Community Dinner at The Journey
DESCRIPTION:The Journey will begin hosting free weekly community meals for our neighbors\, starting Sunday\, November 9\, at 6 PM. \nFrom 5–6 PM\, our doors are open as a warm and welcoming space for families to connect\, rest\, and even use our WiFi for homework or work. Then at 6 PM\, we’ll serve a hot\, nourishing dinner.  \nFor more info or to get involved: thejourneyhbg.org/neighbor-to-neighbor
URL:https://pasenatorkim.com/event/community-dinner-at-the-journey/2025-12-21/
LOCATION:The Journey Church\, 750 S 29th Street\, Harrisburg\, 17111\, United States
CATEGORIES:2025 Holiday
ATTACH;FMTTYPE=image/jpeg:https://pasenatorkim.com/wp-content/uploads/2025/11/The-Journey-Chruch.jpg
END:VEVENT
END:VCALENDAR