BEGIN:VCALENDAR
VERSION:2.0
PRODID:-//Senator Patty Kim - ECPv6.15.20//NONSGML v1.0//EN
CALSCALE:GREGORIAN
METHOD:PUBLISH
X-WR-CALNAME:Senator Patty Kim
X-ORIGINAL-URL:https://pasenatorkim.com
X-WR-CALDESC:Events for Senator Patty Kim
REFRESH-INTERVAL;VALUE=DURATION:PT1H
X-Robots-Tag:noindex
X-PUBLISHED-TTL:PT1H
BEGIN:VTIMEZONE
TZID:America/New_York
BEGIN:DAYLIGHT
TZOFFSETFROM:-0500
TZOFFSETTO:-0400
TZNAME:EDT
DTSTART:20250309T070000
END:DAYLIGHT
BEGIN:STANDARD
TZOFFSETFROM:-0400
TZOFFSETTO:-0500
TZNAME:EST
DTSTART:20251102T060000
END:STANDARD
BEGIN:DAYLIGHT
TZOFFSETFROM:-0500
TZOFFSETTO:-0400
TZNAME:EDT
DTSTART:20260308T070000
END:DAYLIGHT
BEGIN:STANDARD
TZOFFSETFROM:-0400
TZOFFSETTO:-0500
TZNAME:EST
DTSTART:20261101T060000
END:STANDARD
BEGIN:DAYLIGHT
TZOFFSETFROM:-0500
TZOFFSETTO:-0400
TZNAME:EDT
DTSTART:20270314T070000
END:DAYLIGHT
BEGIN:STANDARD
TZOFFSETFROM:-0400
TZOFFSETTO:-0500
TZNAME:EST
DTSTART:20271107T060000
END:STANDARD
END:VTIMEZONE
BEGIN:VEVENT
DTSTART;TZID=America/New_York:20260102T170000
DTEND;TZID=America/New_York:20260102T190000
DTSTAMP:20260419T194723
CREATED:20251106T175703Z
LAST-MODIFIED:20251106T175904Z
UID:10000012-1767373200-1767380400@pasenatorkim.com
SUMMARY:Free Meals
DESCRIPTION:Due to recent SNAP program cuts\, Harrisburg City Council is stepping up to support families in our community during this challenging time. Beginning November 7th\, we will be distributing hot meals to individuals and families in need to help ease the impact of these reductions. \nWhen: The first Friday of every month\nTime: 5:00 PM – 7:00 PM\nWhere: Public Works Building\, 1820 Paxton Street\, Harrisburg\, PA 17104-2826\nImportant: \n\nMeals are distributed while supplies last.Adults and children must be present to receive a platter.\nYou must present your EBT/Access card with matching ID.\nEvery individual receiving a meal must be present.\n\nThis initiative is part of our ongoing effort to ensure that no family in Harrisburg goes without a warm\, nourishing meal. Please help us spread the word and support our neighbors in need.
URL:https://pasenatorkim.com/event/free-meals/2026-01-02/
LOCATION:Public Works Building\, 1820 Paxton Street\, Harrisburg\, 17104\, United States
CATEGORIES:2025 Holiday
ATTACH;FMTTYPE=image/jpeg:https://pasenatorkim.com/wp-content/uploads/2025/11/Dinner-Distribution-Nov-7.jpg
END:VEVENT
BEGIN:VEVENT
DTSTART;TZID=America/New_York:20260110T113000
DTEND;TZID=America/New_York:20260110T123000
DTSTAMP:20260419T194723
CREATED:20251106T180825Z
LAST-MODIFIED:20251106T180938Z
UID:10000016-1768044600-1768048200@pasenatorkim.com
SUMMARY:MBROC Grocery Giveaway
DESCRIPTION:Come ready to pick up some free groceries. Bring your own bags\, boxes\, wagon etc. Time starts 11:30 am until we run out!! FYI…line starts early \nLearn more here →
URL:https://pasenatorkim.com/event/mbroc-grocery-giveaway/2026-01-10/
LOCATION:Penbrook Church of God Parking Lot\, 2733 Canby Street\, Harrisburg\, 17103\, United States
CATEGORIES:2025 Holiday
ATTACH;FMTTYPE=image/jpeg:https://pasenatorkim.com/wp-content/uploads/2025/11/MBROC-Free-Grocery-Giveaway.jpg
END:VEVENT
END:VCALENDAR