BEGIN:VCALENDAR
VERSION:2.0
PRODID:-//Senator Patty Kim - ECPv6.15.20//NONSGML v1.0//EN
CALSCALE:GREGORIAN
METHOD:PUBLISH
X-WR-CALNAME:Senator Patty Kim
X-ORIGINAL-URL:https://pasenatorkim.com
X-WR-CALDESC:Events for Senator Patty Kim
REFRESH-INTERVAL;VALUE=DURATION:PT1H
X-Robots-Tag:noindex
X-PUBLISHED-TTL:PT1H
BEGIN:VTIMEZONE
TZID:America/New_York
BEGIN:DAYLIGHT
TZOFFSETFROM:-0500
TZOFFSETTO:-0400
TZNAME:EDT
DTSTART:20240310T070000
END:DAYLIGHT
BEGIN:STANDARD
TZOFFSETFROM:-0400
TZOFFSETTO:-0500
TZNAME:EST
DTSTART:20241103T060000
END:STANDARD
BEGIN:DAYLIGHT
TZOFFSETFROM:-0500
TZOFFSETTO:-0400
TZNAME:EDT
DTSTART:20250309T070000
END:DAYLIGHT
BEGIN:STANDARD
TZOFFSETFROM:-0400
TZOFFSETTO:-0500
TZNAME:EST
DTSTART:20251102T060000
END:STANDARD
BEGIN:DAYLIGHT
TZOFFSETFROM:-0500
TZOFFSETTO:-0400
TZNAME:EDT
DTSTART:20260308T070000
END:DAYLIGHT
BEGIN:STANDARD
TZOFFSETFROM:-0400
TZOFFSETTO:-0500
TZNAME:EST
DTSTART:20261101T060000
END:STANDARD
END:VTIMEZONE
BEGIN:VTIMEZONE
TZID:UTC
BEGIN:STANDARD
TZOFFSETFROM:+0000
TZOFFSETTO:+0000
TZNAME:UTC
DTSTART:20240101T000000
END:STANDARD
END:VTIMEZONE
BEGIN:VEVENT
DTSTART;TZID=America/New_York:20250905T090000
DTEND;TZID=America/New_York:20250905T120000
DTSTAMP:20260419T222829
CREATED:20250609T171435Z
LAST-MODIFIED:20250627T155233Z
UID:10000007-1757062800-1757073600@pasenatorkim.com
SUMMARY:Senior Health Fair
DESCRIPTION:Join Senator Patty Kim on September 5\, 2025 for a Senior Health Fair. We will be providing state related resources and services to seniors. \n			\n			\n				\n				\n				\n				\n			\n				\n				\n				\n				\n				\n				\n				\n				\n				\n				\n				Register\n			\n				\n				\n				\n				\n				This form is currently closed for submissions.
URL:https://pasenatorkim.com/event/healthfair/
LOCATION:Dayspring Ministries\, 1600 Spring Garden Drive\, Middletown\, 17057\, United States
ATTACH;FMTTYPE=image/jpeg:https://pasenatorkim.com/wp-content/uploads/2025/03/Senior-Health-Fair-Sept-2025.jpg
END:VEVENT
BEGIN:VEVENT
DTSTART;TZID=UTC:20250501T110000
DTEND;TZID=UTC:20250501T123000
DTSTAMP:20260419T222829
CREATED:20250319T200733Z
LAST-MODIFIED:20250319T200733Z
UID:10000004-1746097200-1746102600@pasenatorkim.com
SUMMARY:Real ID Webinar
DESCRIPTION:I am proud to be partnering with PennDOT to host a REAL ID webinar on May 1st at 11 AM! During this webinar\, we’ll be explaining what a REAL ID is\, why you may want one\, and how you can get one before the May 7 REAL ID Enforcement date. This virtual presentation is completely free to attend\, so mark your calendars and tell your friends. \nRegister Here →
URL:https://pasenatorkim.com/event/realid/
LOCATION:Confirmation
ATTACH;FMTTYPE=image/jpeg:https://pasenatorkim.com/wp-content/uploads/2025/03/REal-ID-May-1-2025.jpg
END:VEVENT
BEGIN:VEVENT
DTSTART;TZID=UTC:20250426T100000
DTEND;TZID=UTC:20250426T130000
DTSTAMP:20260419T222829
CREATED:20250312T012221Z
LAST-MODIFIED:20250327T015116Z
UID:10000001-1745661600-1745672400@pasenatorkim.com
SUMMARY:Pardon Expo and Job Fair
DESCRIPTION:Join Senator Patty Kim is for a Pardon Expo and Job Fair on April 26 from 10 am – 1pm at Camp Curtain YMCA located at 2135 N. 6th Street\, Harrisburg\, PA \nExperts will be on hand to provide one on one assistance. Ex-offender resources and job vendors will be there for on-the-spot interviews. \nRegister\nThis form is currently closed for submissions.
URL:https://pasenatorkim.com/event/pardonexpo/
LOCATION:Camp Curtain YMCA\, 2135 N. 6th Street\, Harrisburg\, PA\, 17110\, United States
ATTACH;FMTTYPE=image/jpeg:https://pasenatorkim.com/wp-content/uploads/2025/03/Job-Fair-April-26-2025-scaled.jpg
END:VEVENT
END:VCALENDAR