BEGIN:VCALENDAR
VERSION:2.0
PRODID:-//Senator Patty Kim - ECPv6.15.20//NONSGML v1.0//EN
CALSCALE:GREGORIAN
METHOD:PUBLISH
X-WR-CALNAME:Senator Patty Kim
X-ORIGINAL-URL:https://pasenatorkim.com
X-WR-CALDESC:Events for Senator Patty Kim
REFRESH-INTERVAL;VALUE=DURATION:PT1H
X-Robots-Tag:noindex
X-PUBLISHED-TTL:PT1H
BEGIN:VTIMEZONE
TZID:America/New_York
BEGIN:DAYLIGHT
TZOFFSETFROM:-0500
TZOFFSETTO:-0400
TZNAME:EDT
DTSTART:20240310T070000
END:DAYLIGHT
BEGIN:STANDARD
TZOFFSETFROM:-0400
TZOFFSETTO:-0500
TZNAME:EST
DTSTART:20241103T060000
END:STANDARD
BEGIN:DAYLIGHT
TZOFFSETFROM:-0500
TZOFFSETTO:-0400
TZNAME:EDT
DTSTART:20250309T070000
END:DAYLIGHT
BEGIN:STANDARD
TZOFFSETFROM:-0400
TZOFFSETTO:-0500
TZNAME:EST
DTSTART:20251102T060000
END:STANDARD
BEGIN:DAYLIGHT
TZOFFSETFROM:-0500
TZOFFSETTO:-0400
TZNAME:EDT
DTSTART:20260308T070000
END:DAYLIGHT
BEGIN:STANDARD
TZOFFSETFROM:-0400
TZOFFSETTO:-0500
TZNAME:EST
DTSTART:20261101T060000
END:STANDARD
END:VTIMEZONE
BEGIN:VEVENT
DTSTART;TZID=America/New_York:20251221T120000
DTEND;TZID=America/New_York:20251221T140000
DTSTAMP:20260419T100747
CREATED:20251202T213414Z
LAST-MODIFIED:20251202T213519Z
UID:10000034-1766318400-1766325600@pasenatorkim.com
SUMMARY:B2G & MIK Christmas Giveaway
DESCRIPTION:
URL:https://pasenatorkim.com/event/b2g-mik-christmas-giveaway/
LOCATION:Men In the Kitchen\, 606 N 2nd Street\, Harrisburg\, PA\, 17101\, United States
CATEGORIES:2025 Holiday
ATTACH;FMTTYPE=image/jpeg:https://pasenatorkim.com/wp-content/uploads/2025/12/Men-in-the-Kitchen.jpg
END:VEVENT
END:VCALENDAR